BEGIN:VCALENDAR
VERSION:2.0
PRODID:-//The Point - ECPv5.16.3.1//NONSGML v1.0//EN
CALSCALE:GREGORIAN
METHOD:PUBLISH
X-WR-CALNAME:The Point
X-ORIGINAL-URL:https://pointfm.com
X-WR-CALDESC:Events for The Point
BEGIN:VTIMEZONE
TZID:America/New_York
BEGIN:DAYLIGHT
TZOFFSETFROM:-0500
TZOFFSETTO:-0400
TZNAME:EDT
DTSTART:20190310T070000
END:DAYLIGHT
BEGIN:STANDARD
TZOFFSETFROM:-0400
TZOFFSETTO:-0500
TZNAME:EST
DTSTART:20191103T060000
END:STANDARD
END:VTIMEZONE
BEGIN:VEVENT
DTSTART;TZID=America/New_York:20190701T200000
DTEND;TZID=America/New_York:20190701T230000
DTSTAMP:20260420T000805
CREATED:20190517T203440Z
LAST-MODIFIED:20190517T203440Z
UID:100594-1562011200-1562022000@pointfm.com
SUMMARY:Mykal Rose @ Zen Barn
DESCRIPTION:The Point Welcomes: \nMykal Rose with Sly & Robbie w/s/g One Over Zero \nA Tour de Point Show \nMonday\, July 1st @ 8:00 pm \nZen Barn |  Waterbury Center\, VT \n-Get Tickets and Event Info Here- \nSly Dunbar (drums) and Robbie Shakespeare (bass)\, the arrangers\, producers\, songwriters\, session musicians and developers of raw talent\, are widely acknowledged as the world’s greatest rhythm section. The ‘riddim twins’ have been together for 40 years….between them they are estimated to have played on or produced over 200\,000 recordings. Their list of collaborators is a veritable who’s who. There is every prominent Jamaican artist from Beenie Man to Sean Paul to Peter Tosh\, Don Carlos\, Michael Rose\, Junior Reid\, Shaggy\,\nCherine Anderson\, Bitty Mclean\, Black Uhuru\, Gregory Isaacs\, Dennis Brown and Ini Kamoze and they have played with and produced artists such as Ben Harper\, Bob Dylan\, Mick Jagger\, The Rolling Stones\, Grace Jones\, Paul McCartney\, Carlos Santana\, Sinéad O’Connor\, Britney Spears\, Alicia Keys\, UB40\, Al Campbell\, Joe Cocker\, No Doubt\, the Fugees\, Michael Franti and countless others. \nFor over 30 years\, Mykal Rose has been recording and performing his brand of militant\, hardcore Jamaican reggae to the delight of fans and music lovers around the world. Worldwide\, Mykal Rose and Sly & Robbie are household names. Mykal is an exceptionally talented vocalist and performer. He has an original style and sound that was quickly embraced worldwide. Mykal Rose is the favored voice of\nBlack Uhuru\, with his Waterhouse slurs\, effective songwriting\, militant dancing and vocals. Perhaps Mykal’s highest profile recognition came in 1984\, when he and the other Black Uhuru members (Duckie Simpson\, Puma Jones\, Sly Dunbar\, and Robbie Shakespeare) won reggae’s first Grammy award for the album Anthem. Black Uhuru with Mykal Rose and Sly & Robbie became the best-known reggae act since Bob Marley. Even today\, Island continues to capitalize on the groups’ success by re-compiling and re-releasing the group’s Island years material.
URL:https://pointfm.com/events/mykal-rose-zen-barn/
END:VEVENT
END:VCALENDAR