BEGIN:VCALENDAR
VERSION:2.0
PRODID:-//The Point - ECPv5.16.3.1//NONSGML v1.0//EN
CALSCALE:GREGORIAN
METHOD:PUBLISH
X-WR-CALNAME:The Point
X-ORIGINAL-URL:https://pointfm.com
X-WR-CALDESC:Events for The Point
BEGIN:VTIMEZONE
TZID:America/New_York
BEGIN:DAYLIGHT
TZOFFSETFROM:-0500
TZOFFSETTO:-0400
TZNAME:EDT
DTSTART:20180311T070000
END:DAYLIGHT
BEGIN:STANDARD
TZOFFSETFROM:-0400
TZOFFSETTO:-0500
TZNAME:EST
DTSTART:20181104T060000
END:STANDARD
END:VTIMEZONE
BEGIN:VEVENT
DTSTART;TZID=America/New_York:20180927T190000
DTEND;TZID=America/New_York:20180927T230000
DTSTAMP:20260422T043646
CREATED:20180926T151702Z
LAST-MODIFIED:20180926T175354Z
UID:98141-1538074800-1538089200@pointfm.com
SUMMARY:Neko Case @ Fuller Hall
DESCRIPTION:KCP Presents is very pleased to present three-time Grammy Award nominee Neko Case in a special concert to showcase the singer/songwriter’s newest work. \n \nFive years have passed since Case’s last solo project\, The Worse Things Get\, the Harder I Fight\, the Harder I Fight\, the More I Love You. In the interim\, she sang on Whiteout Conditions\, the 2017 release from longtime band mates the New Pornographers. The year before that\, she released a vinyl box set of her solo work and joined country/pop singer/songwriter k.d. Lang and alternative/folk artist Laura Veirs on the case/lang/veirs project. \n  \nClick here for tickets!  \n 
URL:https://pointfm.com/events/neko-case/
LOCATION:VT\, United States
END:VEVENT
END:VCALENDAR