BEGIN:VCALENDAR
VERSION:2.0
PRODID:-//The Point - ECPv5.16.3.1//NONSGML v1.0//EN
CALSCALE:GREGORIAN
METHOD:PUBLISH
X-WR-CALNAME:The Point
X-ORIGINAL-URL:https://pointfm.com
X-WR-CALDESC:Events for The Point
BEGIN:VTIMEZONE
TZID:America/New_York
BEGIN:DAYLIGHT
TZOFFSETFROM:-0500
TZOFFSETTO:-0400
TZNAME:EDT
DTSTART:20190310T070000
END:DAYLIGHT
BEGIN:STANDARD
TZOFFSETFROM:-0400
TZOFFSETTO:-0500
TZNAME:EST
DTSTART:20191103T060000
END:STANDARD
END:VTIMEZONE
BEGIN:VEVENT
DTSTART;TZID=America/New_York:20190216T190000
DTEND;TZID=America/New_York:20190216T230000
DTSTAMP:20260424T052228
CREATED:20190128T212052Z
LAST-MODIFIED:20190128T212149Z
UID:99139-1550343600-1550358000@pointfm.com
SUMMARY:Noam Pikelny & Stuart Duncan @ Spruce Peak Performing Arts Center
DESCRIPTION:Noam Pikelny & Stuart Duncan \nSaturday\, February 16th @ 7:00 pm \nSpruce Peak Performing Arts Center | Stowe\, VT \n-Get Tickets and Event Info Here- \nTwo of the day’s foremost bluegrass players – Noam Pikelny (of the Punch Brothers) on banjo and Stuart Duncan(Nashville Bluegrass Band\, Lyle Lovett Band) on fiddle perform a concert of breakdowns\, jigs\, waltzes\, original songs and more displaying the wide range of possibilities of these two folk instruments in the hands of two virtuosos. \nNoam Pikelny has emerged as the preeminent banjoist of his generation. He is a founding member of Punch Brothers and was awarded the first annual Steve Martin Prize for Excellence in Banjo and Bluegrass in 2010 in addition to IBMA’s Banjo Player of the year in 2014 and 2017. \nUniversal Favorite (Rounder Records\, 2017) is the fourth record Noam Pikelny has released under his own name\, but it’s truly his solo debut. His previous solo efforts—including 2014’s landmark Noam Pikelny Plays Kenny Baker Plays Bill Monroe—were full-band affairs that revealed his abilities as a dynamic bandleader while reinforcing his reputation as an inventive accompanist –with both albums receiving Grammy nominations. Universal Favorite features only the man himself\, playing lovely originals and covers that showcase his unique approach to the instrument and compositional flair. He recorded them live in the studio without accompaniment\, coaxing a wide array of sounds and colors out of his instruments\, embracing the challenges and exploring the new possibilities of the solo setting. And\, for the first time in his career\, Pikelny even sings. It turns out he has a striking deadpan baritone that conveys humor and melancholy in equal measure. \n 
URL:https://pointfm.com/events/noam-pikelny-stuart-duncan-spruce-peak-performing-arts-center/
END:VEVENT
END:VCALENDAR