BEGIN:VCALENDAR
VERSION:2.0
PRODID:-//The Point - ECPv5.16.3.1//NONSGML v1.0//EN
CALSCALE:GREGORIAN
METHOD:PUBLISH
X-WR-CALNAME:The Point
X-ORIGINAL-URL:https://pointfm.com
X-WR-CALDESC:Events for The Point
BEGIN:VTIMEZONE
TZID:America/New_York
BEGIN:DAYLIGHT
TZOFFSETFROM:-0500
TZOFFSETTO:-0400
TZNAME:EDT
DTSTART:20190310T070000
END:DAYLIGHT
BEGIN:STANDARD
TZOFFSETFROM:-0400
TZOFFSETTO:-0500
TZNAME:EST
DTSTART:20191103T060000
END:STANDARD
END:VTIMEZONE
BEGIN:VEVENT
DTSTART;TZID=America/New_York:20190628T150000
DTEND;TZID=America/New_York:20190630T120000
DTSTAMP:20260420T023434
CREATED:20190617T191827Z
LAST-MODIFIED:20190617T191827Z
UID:100826-1561734000-1561896000@pointfm.com
SUMMARY:Patrick Ross's Camping & Music Festival @ Newbury\, VT
DESCRIPTION:Patrick Ross’s Camping & Music Festival 2019 \nFriday\, June 28th – Sunday\, June 30th \nGates open Friday at 3 pm and close Sunday at 12 pm \nHarvest Moon Orchard | Newbury\, VT \nRock Farmer Records is proud to present Patrick Ross’s Camping & Music Festival 2019 (June 28 – 30) at Harvest Moon Orchard in Newbury\, Vermont with a weekend long experience to raise money for music scholarships. The view of the White Mountains along the Connecticut River make this the music festival for the whole family including performances by Lula Wiles\, Rusty Dewees\, Chad Hollister\, Bow Thayer\, Patrick Ross\, Hunter Paye\, Senayit\, Mark Struhsacker\, and many more. Enjoy jam sessions\, local food trucks\, Alchemist Brews\, Champlain Orchard Cider\, campsites and more… \nFREE admission for those under 16 with an accompanying paid adult. A great family experience\, Patrick Ross’s Camping & Music Festival starts where the sidewalk ends in an apple orchard by the river in a picturesque Vermont village. Day rates available as camping is optional.  Cultivating community through music is easiest with friends. Bring an instrument if you want to play along! \n  \nCamping Optional – Tickets $15 – $100 available at patrickrossmusic.com \nProceeds will benefit The Vermont Folklife Center Master – Apprenticeship Program. “Supporting the living cultural heritage of Vermont’s diverse cultures.”
URL:https://pointfm.com/events/patrick-rosss-camping-music-festival-newbury-vt/
END:VEVENT
END:VCALENDAR