BEGIN:VCALENDAR
VERSION:2.0
PRODID:-//The Point - ECPv5.16.3.1//NONSGML v1.0//EN
CALSCALE:GREGORIAN
METHOD:PUBLISH
X-WR-CALNAME:The Point
X-ORIGINAL-URL:https://pointfm.com
X-WR-CALDESC:Events for The Point
BEGIN:VTIMEZONE
TZID:America/New_York
BEGIN:DAYLIGHT
TZOFFSETFROM:-0500
TZOFFSETTO:-0400
TZNAME:EDT
DTSTART:20190310T070000
END:DAYLIGHT
BEGIN:STANDARD
TZOFFSETFROM:-0400
TZOFFSETTO:-0500
TZNAME:EST
DTSTART:20191103T060000
END:STANDARD
END:VTIMEZONE
BEGIN:VEVENT
DTSTART;TZID=America/New_York:20190618T200000
DTEND;TZID=America/New_York:20190618T230000
DTSTAMP:20260420T124018
CREATED:20190517T194919Z
LAST-MODIFIED:20190517T195110Z
UID:100584-1560888000-1560898800@pointfm.com
SUMMARY:Phosphorescent @ Higher Ground
DESCRIPTION:The Point Welcomes: \nPhosphorescent \nA Tour de Point Show \nTuesday\, June 18th @ 8:00 pm \nHigher Ground | Burlington\, VT \n-Get Tickets and Event Info Here- \nIn the five years since Matthew Houck’s last record as Phosphorescent he fell in love\, left New York for Nashville\, became a father\, built a studio from the ground up by hand\, and became a father again. Oh\, and somewhere along the way\, he nearly died of meningitis. Life\, love\, new beginnings\, death— “it’s laughable\, honestly\, the amount of ‘major life events’ we could chalk up if we were keeping score\,” Houck says. “A lot can happen in five years.” \nOn C’est La Vie\, Houck’s first album of new Phosphorescent material since 2013’s gorgeous career defining and critically acclaimed Muchacho\, he takes stock of these changes through the luminous\, star-kissed sounds he has spent a career refining. By now\, Houck has mastered the contours of this place\, as intimate as it is grand\, somewhere between dreamed and real\, where the great lyrical songwriters meet experimental pioneers and somehow distill into the same person. It is Houck’s own personal musical cosmos\, a mixture of the earthy and the wondrous\, the troubled and the serene\, and by now he commands it with depth and precision. When you ask Houck about the cumulative effect of all this life happening in such a short time\, he turns philosophical: ”These significant moments in life can really make you feel your insignificance\,” he says. “It’s a paradox I guess\, that these wildly profound events simultaneously highlight that maybe none of this matters at all…” On this album\, Houck reckons with that void — the vanishing point where our individual significance melts into the stars — and sums it up thusly: C’est La Vie. \n 
URL:https://pointfm.com/events/phosphorescent-higher-ground/
END:VEVENT
END:VCALENDAR