BEGIN:VCALENDAR
VERSION:2.0
PRODID:-//The Point - ECPv5.16.3.1//NONSGML v1.0//EN
CALSCALE:GREGORIAN
METHOD:PUBLISH
X-WR-CALNAME:The Point
X-ORIGINAL-URL:https://pointfm.com
X-WR-CALDESC:Events for The Point
BEGIN:VTIMEZONE
TZID:America/New_York
BEGIN:DAYLIGHT
TZOFFSETFROM:-0500
TZOFFSETTO:-0400
TZNAME:EDT
DTSTART:20190310T070000
END:DAYLIGHT
BEGIN:STANDARD
TZOFFSETFROM:-0400
TZOFFSETTO:-0500
TZNAME:EST
DTSTART:20191103T060000
END:STANDARD
END:VTIMEZONE
BEGIN:VEVENT
DTSTART;TZID=America/New_York:20190118T200000
DTEND;TZID=America/New_York:20190118T230000
DTSTAMP:20260419T132706
CREATED:20181130T202527Z
LAST-MODIFIED:20181203T163752Z
UID:98491-1547841600-1547852400@pointfm.com
SUMMARY:Pink Talking Fish @ Strand Theatre
DESCRIPTION:Pink Talking Fish \nFriday\, January 18th @ 8:00 pm \nStrand Center for the Arts | Plattsburgh\, NY \n-Get Tickets and Event Info Here- \nPink Talking Fish is a Hybrid Tribute Fusion Act that takes the music from three of the world’s most beloved bands and creates a special treat for fans of the music. \nPink Floyd\, The Talking Heads and Phish are all more than just bands… they are Phenomenons. Their creations have artistically inspired people and their mind-blowing live performances have brought people together to form a special sense of community around the love for their favorite band. \nAlthough the music from each act is different\, Pink Talking Fish has discovered that fusing the material together creates an amazing story. The epic emotion of Pink Floyd…. The funky\, danceable layerings of The Talking Heads…. The multitude of styles\, unique compositional structures and pure fun of Phish…. to merge these three into one gives music lovers a special experience.
URL:https://pointfm.com/events/pink-talking-fish-strand-center-for-the-arts/
END:VEVENT
END:VCALENDAR