BEGIN:VCALENDAR
VERSION:2.0
PRODID:-//The Point - ECPv5.16.3.1//NONSGML v1.0//EN
CALSCALE:GREGORIAN
METHOD:PUBLISH
X-WR-CALNAME:The Point
X-ORIGINAL-URL:https://pointfm.com
X-WR-CALDESC:Events for The Point
BEGIN:VTIMEZONE
TZID:America/New_York
BEGIN:DAYLIGHT
TZOFFSETFROM:-0500
TZOFFSETTO:-0400
TZNAME:EDT
DTSTART:20210314T070000
END:DAYLIGHT
BEGIN:STANDARD
TZOFFSETFROM:-0400
TZOFFSETTO:-0500
TZNAME:EST
DTSTART:20211107T060000
END:STANDARD
END:VTIMEZONE
BEGIN:VEVENT
DTSTART;TZID=America/New_York:20210702T190000
DTEND;TZID=America/New_York:20210702T230000
DTSTAMP:20260423T214609
CREATED:20210608T155834Z
LAST-MODIFIED:20210622T182821Z
UID:103842-1625252400-1625266800@pointfm.com
SUMMARY:Purple @ Double E
DESCRIPTION:  \nThe Point Welcomes: \nPurple: Tribute to Prince \nA Tour de Point Show \nFriday\, July 2nd / Show @ 7:00 pm \nThe Double E – Essex Experience Green | Essex Junction\, VT \n-Tickets & Info – \nCraig Mitchell leads this massive 7 piece band through a powerful set of Prince’s music spanning the length of his career. The band features members of some of Vermont’s best musicians including members of The Seth Yacovone Band\, The Renegade Groove\, The High Breaks and more. Put your dancin’ shoes on and expect to be shakin’ your money maker for hours of sweaty dance music.
URL:https://pointfm.com/events/purple-double-e/
LOCATION:The Double E: T Rex Theater\, 21 Essex Way\, Essex Junction\, VT\, 05425\, United States
END:VEVENT
END:VCALENDAR