BEGIN:VCALENDAR
VERSION:2.0
PRODID:-//The Point - ECPv5.16.3.1//NONSGML v1.0//EN
CALSCALE:GREGORIAN
METHOD:PUBLISH
X-WR-CALNAME:The Point
X-ORIGINAL-URL:https://pointfm.com
X-WR-CALDESC:Events for The Point
BEGIN:VTIMEZONE
TZID:America/New_York
BEGIN:DAYLIGHT
TZOFFSETFROM:-0500
TZOFFSETTO:-0400
TZNAME:EDT
DTSTART:20190310T070000
END:DAYLIGHT
BEGIN:STANDARD
TZOFFSETFROM:-0400
TZOFFSETTO:-0500
TZNAME:EST
DTSTART:20191103T060000
END:STANDARD
END:VTIMEZONE
BEGIN:VEVENT
DTSTART;TZID=America/New_York:20190315T200000
DTEND;TZID=America/New_York:20190315T230000
DTSTAMP:20260423T074200
CREATED:20181128T211930Z
LAST-MODIFIED:20181128T211930Z
UID:98470-1552680000-1552690800@pointfm.com
SUMMARY:Québecfest @ Flynn Center
DESCRIPTION:Québecfest: Le Vent Du Nord @ De Temps Antan \nFriday\, March 15th @ 8:00 pm \nFlynn Center | Burlington\, VT \n-Get Tickets and Event Info Here- \nTwo of Québec’s greatest traditional bands\, Le Vent du Nord and De Temps Antan\, combine forces for an evening of Celtic roots and vibrant Francophone culture. Since their 2002 inception\, Le Vent du Nord has enjoyed meteoric success\, receiving two Juno Awards for Best Roots/Traditional Album. Trio De Temps Antan uses Québec’s vibrant living music tradition as a springboard for musical innovation\, catapulting audiences headlong into the future of French-Canadian music and culture. The groups pay tribute to Québec’s music revival in this pre-St. Patrick’s Day show.
URL:https://pointfm.com/events/quebecfest-flynn-center/
END:VEVENT
END:VCALENDAR