BEGIN:VCALENDAR
VERSION:2.0
PRODID:-//The Point - ECPv5.16.3.1//NONSGML v1.0//EN
CALSCALE:GREGORIAN
METHOD:PUBLISH
X-WR-CALNAME:The Point
X-ORIGINAL-URL:https://pointfm.com
X-WR-CALDESC:Events for The Point
BEGIN:VTIMEZONE
TZID:America/New_York
BEGIN:DAYLIGHT
TZOFFSETFROM:-0500
TZOFFSETTO:-0400
TZNAME:EDT
DTSTART:20210314T070000
END:DAYLIGHT
BEGIN:STANDARD
TZOFFSETFROM:-0400
TZOFFSETTO:-0500
TZNAME:EST
DTSTART:20211107T060000
END:STANDARD
END:VTIMEZONE
BEGIN:VEVENT
DTSTART;TZID=America/New_York:20210703T170000
DTEND;TZID=America/New_York:20210703T220000
DTSTAMP:20260423T213633
CREATED:20210622T183602Z
LAST-MODIFIED:20210622T183602Z
UID:103885-1625331600-1625349600@pointfm.com
SUMMARY:Red White & Blues with Dave Keller @ Double E
DESCRIPTION:The Point Welcomes: \nRed White & Blues on the Green with Dave Keller \nA Tour de Point Show \nSaturday\, July 3rd / Show @ 5:00 pm \nThe Double E – Essex Experience Green | Essex Junction\, VT \n-Tickets & Info – \nDave Keller has steadily built a national reputation as a top notch soul/blues singer\, guitarist and songwriter. He is a two-time Blues Music Award (BMA) nominee. Fueled by his love of deep Southern soul and blues\, Keller’s performances ring out with passion\, integrity\, and an ability to break down the barriers between performer and audience. His new album\, You Get What You Give: Duets (Tastee-Tone Records\, Dec. 2020)\, hit #6 on the Living Blues radio chart (the gold standard for soul and blues airplay). It features some of the finest singers in the roots music world (Joe Louis Walker\, Trudy Lynn\, Johnny Rawls\, Annika Chambers\, Dawn Tyler Watson\, etc.) joining Keller on a batch of his brand new original songs. All money from album sales is being donated to groups working for racial justice and equity.
URL:https://pointfm.com/events/red-white-blues-with-dave-keller-double-e/
LOCATION:The Double E: T Rex Theater\, 21 Essex Way\, Essex Junction\, VT\, 05425\, United States
END:VEVENT
END:VCALENDAR