BEGIN:VCALENDAR
VERSION:2.0
PRODID:-//The Point - ECPv5.16.3.1//NONSGML v1.0//EN
CALSCALE:GREGORIAN
METHOD:PUBLISH
X-WR-CALNAME:The Point
X-ORIGINAL-URL:https://pointfm.com
X-WR-CALDESC:Events for The Point
BEGIN:VTIMEZONE
TZID:America/New_York
BEGIN:DAYLIGHT
TZOFFSETFROM:-0500
TZOFFSETTO:-0400
TZNAME:EDT
DTSTART:20180311T070000
END:DAYLIGHT
BEGIN:STANDARD
TZOFFSETFROM:-0400
TZOFFSETTO:-0500
TZNAME:EST
DTSTART:20181104T060000
END:STANDARD
END:VTIMEZONE
BEGIN:VEVENT
DTSTART;TZID=America/New_York:20181221T190000
DTEND;TZID=America/New_York:20181221T220000
DTSTAMP:20260419T102607
CREATED:20181128T203155Z
LAST-MODIFIED:20181128T203155Z
UID:98452-1545418800-1545429600@pointfm.com
SUMMARY:Rodney Marsalis Philadelphia Big Brass @ Fuller Hall
DESCRIPTION:Rodney Marsalis Philadelphia Big Brass \nFriday\, December 21st @ 7:00 pm \nFuller Hall | St. Johnsbury Academy \n-Get Tickets and Event Info Here- \nThe Rodney Marsalis Philadelphia Big Brass is composed of some of America’s top brass musicians who will perform an eclectic offering of holiday music\, with a sprinkling of other specialized brass selections from their repertory. The 11-piece ensemble includes a player on French horn\, five trumpets\, three trombones\, a tuba\, and drums. Also a narrator for a reading of ‘Twas the Night Before Christmas” with full musical accompaniment. \nA recent Big Brass holiday program included work by Bach\, Handel\, and Tchaikovsky – along with a West Side Story medley\, a couple of New Orleans jazz pieces and seasonal favorites including God Rest Ye Merry Gentlemen\, Angels We Have Heard on High\, Good King Wenceslas\, Sleigh Ride and Silent Night. \nThe Rodney Marsalis band had its beginnings on the streets of New Orleans. Taught from a young age by his cousin\, Wynton Marsalis\, and on the advice of his uncle\, Ellis Marsalis\, Rodney created a concert format that breaks barriers between genres and creates connection between the audience and performers.
URL:https://pointfm.com/events/rodney-marsalis-philadelphia-big-brass-fuller-hall/
END:VEVENT
END:VCALENDAR