BEGIN:VCALENDAR
VERSION:2.0
PRODID:-//The Point - ECPv5.16.3.1//NONSGML v1.0//EN
CALSCALE:GREGORIAN
METHOD:PUBLISH
X-WR-CALNAME:The Point
X-ORIGINAL-URL:https://pointfm.com
X-WR-CALDESC:Events for The Point
BEGIN:VTIMEZONE
TZID:America/New_York
BEGIN:DAYLIGHT
TZOFFSETFROM:-0500
TZOFFSETTO:-0400
TZNAME:EDT
DTSTART:20180311T070000
END:DAYLIGHT
BEGIN:STANDARD
TZOFFSETFROM:-0400
TZOFFSETTO:-0500
TZNAME:EST
DTSTART:20181104T060000
END:STANDARD
END:VTIMEZONE
BEGIN:VEVENT
DTSTART;TZID=America/New_York:20181027T193000
DTEND;TZID=America/New_York:20181027T233000
DTSTAMP:20260420T201535
CREATED:20181019T192214Z
LAST-MODIFIED:20181019T192214Z
UID:98265-1540668600-1540683000@pointfm.com
SUMMARY:Session Americana @ Barre Opera House
DESCRIPTION:Session Americana \nSaturday\, October 27th @ 7:30PM \nBarre Opera House | Barre\, VT \nGet Tickets and Event Info Here \nA rock band in a tea cup\, or possibly a folk band in a whiskey bottle. This band/collective of talented musicians craft an musical experience unlike any other. On stage is a collapsible bar table wired with microphones\, a vintage suitcase recast as a kick drum\, an old Estey field organ\, a pre-war parlor guitar\, a mandocello and all of its smaller siblings\, a harmonica case fire damaged when Jack’s bar went up in flames and graffitied by Depeche Mode roadies\, and an assortment of other instruments that get passed around in this freewheeling modern hootenanny. The anything-could-happen feel of a Session show depends on craft that’s not accidental or easily won; they bring a kind of ease and genuineness to this timeless music\, sometimes presenting the latest batch of original songs\, sometimes reaching back into depths of the American “song bag”. “It’s right there in the name for this ultra-gifted\, rotating collective of singers and multi-instrumentalists. And sprawl is a good word when it comes to the Boston-based group’s raucous live shows\, which were initially built around the community concept of traditional Irish seisiúns. The group\, whose members have played with a variety of acts including Patty Griffin\, Josh Ritter and the J. Geils Band\, expertly blends vintage American roots music styles — from country to jazz to rock — in a rowdy but deft fashion.” – Rolling Stone \nWhat keeps fans coming back show after show is the same thing that any audience member longs for; great songs performed by a great band.
URL:https://pointfm.com/events/session-americana-barre-opera-house/
END:VEVENT
END:VCALENDAR