BEGIN:VCALENDAR
VERSION:2.0
PRODID:-//The Point - ECPv5.16.3.1//NONSGML v1.0//EN
CALSCALE:GREGORIAN
METHOD:PUBLISH
X-WR-CALNAME:The Point
X-ORIGINAL-URL:https://pointfm.com
X-WR-CALDESC:Events for The Point
BEGIN:VTIMEZONE
TZID:America/New_York
BEGIN:DAYLIGHT
TZOFFSETFROM:-0500
TZOFFSETTO:-0400
TZNAME:EDT
DTSTART:20180311T070000
END:DAYLIGHT
BEGIN:STANDARD
TZOFFSETFROM:-0400
TZOFFSETTO:-0500
TZNAME:EST
DTSTART:20181104T060000
END:STANDARD
END:VTIMEZONE
BEGIN:VEVENT
DTSTART;TZID=America/New_York:20181123T150000
DTEND;TZID=America/New_York:20181123T220000
DTSTAMP:20260419T222433
CREATED:20181102T162809Z
LAST-MODIFIED:20181102T162809Z
UID:98340-1542985200-1543010400@pointfm.com
SUMMARY:Shimmer: A Winter Cirque Reverie @ Spruce Peak Performing Arts Center
DESCRIPTION:Click here to buy tickets! \nJourney to a shimmering winter wonderland of circus spectacle and derring-do! Marvel at the bendy ballerina in her glistening snow globe. Find yourself aglow as the aerial snow ballet mesmerizes your senses. Astonishing acrobatics\, dazzling specialty acts\, and glittering costumes abound in a warm and whimsical world the whole family will enjoy!
URL:https://pointfm.com/events/shimmer-a-winter-cirque-reverie-spruce-peak-performing-arts-center/
END:VEVENT
END:VCALENDAR