BEGIN:VCALENDAR
VERSION:2.0
PRODID:-//The Point - ECPv5.16.3.1//NONSGML v1.0//EN
CALSCALE:GREGORIAN
METHOD:PUBLISH
X-WR-CALNAME:The Point
X-ORIGINAL-URL:https://pointfm.com
X-WR-CALDESC:Events for The Point
BEGIN:VTIMEZONE
TZID:America/New_York
BEGIN:DAYLIGHT
TZOFFSETFROM:-0500
TZOFFSETTO:-0400
TZNAME:EDT
DTSTART:20240310T070000
END:DAYLIGHT
BEGIN:STANDARD
TZOFFSETFROM:-0400
TZOFFSETTO:-0500
TZNAME:EST
DTSTART:20241103T060000
END:STANDARD
END:VTIMEZONE
BEGIN:VEVENT
DTSTART;TZID=America/New_York:20240714T180000
DTEND;TZID=America/New_York:20240714T180000
DTSTAMP:20260419T183519
CREATED:20240304T175231Z
LAST-MODIFIED:20240304T175231Z
UID:106597-1720980000-1720980000@pointfm.com
SUMMARY:Slightly Stoopid & Dirty Heads at BankNH Pavilion
DESCRIPTION:BUY TICKETS HERE \nOr enter to win them between March 4 and 8 here \nSLIGHTLY STOOPID & DIRTY HEADS – THE SLIGHTLY DIRTY TOUR \nw/ Common Kings and The Elovaters \n$1 from every ticket sold donated to Maui Food Bank to support Maui relief.
URL:https://pointfm.com/events/slightly-stoopid-dirty-heads-at-banknh-pavilion/
LOCATION:BankNH Pavilion\, 72 Meadowbrook Ln\, Gilford\, NH\, 03249\, United States
END:VEVENT
END:VCALENDAR