BEGIN:VCALENDAR
VERSION:2.0
PRODID:-//The Point - ECPv5.16.3.1//NONSGML v1.0//EN
CALSCALE:GREGORIAN
METHOD:PUBLISH
X-WR-CALNAME:The Point
X-ORIGINAL-URL:https://pointfm.com
X-WR-CALDESC:Events for The Point
BEGIN:VTIMEZONE
TZID:America/New_York
BEGIN:DAYLIGHT
TZOFFSETFROM:-0500
TZOFFSETTO:-0400
TZNAME:EDT
DTSTART:20190310T070000
END:DAYLIGHT
BEGIN:STANDARD
TZOFFSETFROM:-0400
TZOFFSETTO:-0500
TZNAME:EST
DTSTART:20191103T060000
END:STANDARD
END:VTIMEZONE
BEGIN:VEVENT
DTSTART;TZID=America/New_York:20190406T203000
DTEND;TZID=America/New_York:20190406T230000
DTSTAMP:20260424T034026
CREATED:20190204T192702Z
LAST-MODIFIED:20190204T192702Z
UID:99165-1554582600-1554591600@pointfm.com
SUMMARY:Start Making Sense @ Higher Ground
DESCRIPTION:The Point Welcomes: \nStart Making Sense: Talking Heads Tribute \nA Tour de Point Show \nSaturday\, April 6th @ 8:30 pm \nHigher Ground | Burlington\, VT \n-Get Tickets and Event Info Here- \nIf David Byrne is one of the geniuses of modern times\, then Start Making Sense is a tribute to genius. The musicians in this 8-piece Talking Heads cover have come from psychedelia-funk\, NYC underground spoof bands\, worldbeat jam\, head-banging punk and from onstage with Frank Zappa’s band members to bring to stage a “once in a lifetime” experience. A rockin’\, funkin’\, danceable celebration of the new-wave punk we loved from the 80’s with frontman Jon Braun as a spot-on David Byrne – suit too big and all.
URL:https://pointfm.com/events/start-making-sense-higher-ground/
END:VEVENT
END:VCALENDAR