BEGIN:VCALENDAR
VERSION:2.0
PRODID:-//The Point - ECPv5.16.3.1//NONSGML v1.0//EN
CALSCALE:GREGORIAN
METHOD:PUBLISH
X-WR-CALNAME:The Point
X-ORIGINAL-URL:https://pointfm.com
X-WR-CALDESC:Events for The Point
BEGIN:VTIMEZONE
TZID:America/New_York
BEGIN:DAYLIGHT
TZOFFSETFROM:-0500
TZOFFSETTO:-0400
TZNAME:EDT
DTSTART:20190310T070000
END:DAYLIGHT
BEGIN:STANDARD
TZOFFSETFROM:-0400
TZOFFSETTO:-0500
TZNAME:EST
DTSTART:20191103T060000
END:STANDARD
END:VTIMEZONE
BEGIN:VEVENT
DTSTART;TZID=America/New_York:20190206T190000
DTEND;TZID=America/New_York:20190206T223000
DTSTAMP:20260420T000707
CREATED:20190110T195415Z
LAST-MODIFIED:20190110T195415Z
UID:98873-1549479600-1549492200@pointfm.com
SUMMARY:Step Afrika @ Spruce Peak Performing Arts Center
DESCRIPTION:Step Afrika \nWednesday\, February 6th @ 7:00 pm \nSpruce Peak Performing Arts Center | Stowe\, VT \n-Get Tickets and Event Info Here- \nThe first professional dance company dedicated to the tradition of stepping\, Step Afrika draws on percussive dance styles that grew out of African American communities\, African traditional dance\, and influences from a variety of other dance and art forms. The company incorporates movement\, words\, and sounds to communicate allegiance\, with a special focus on teamwork and cross-cultural understanding. Though rooted in raw movement\, Step Afrika’s award-winning performances are much more than dance shows; they integrate songs\, storytelling\, humor\, and audience participation in a blend of technique and agility that’s guaranteed to drop more than a few jaws. \n“Electrifying Talents” The Washington Post \n 
URL:https://pointfm.com/events/step-afrika-spruce-peak-performing-arts-center/
END:VEVENT
END:VCALENDAR