BEGIN:VCALENDAR
VERSION:2.0
PRODID:-//The Point - ECPv5.16.3.1//NONSGML v1.0//EN
CALSCALE:GREGORIAN
METHOD:PUBLISH
X-WR-CALNAME:The Point
X-ORIGINAL-URL:https://pointfm.com
X-WR-CALDESC:Events for The Point
BEGIN:VTIMEZONE
TZID:America/New_York
BEGIN:DAYLIGHT
TZOFFSETFROM:-0500
TZOFFSETTO:-0400
TZNAME:EDT
DTSTART:20180311T070000
END:DAYLIGHT
BEGIN:STANDARD
TZOFFSETFROM:-0400
TZOFFSETTO:-0500
TZNAME:EST
DTSTART:20181104T060000
END:STANDARD
END:VTIMEZONE
BEGIN:VEVENT
DTSTART;TZID=America/New_York:20181004T190000
DTEND;TZID=America/New_York:20181020T190000
DTSTAMP:20260421T193912
CREATED:20180926T153032Z
LAST-MODIFIED:20180926T153032Z
UID:98148-1538679600-1540062000@pointfm.com
SUMMARY:SUDS: The Rocking 60s Musical Soap Opera @ The Grange Theatre
DESCRIPTION:ArtisTree’s Music Theatre Festival Presents: \nSUDS: The Rocking 60s Musical Soap Opera \nOctober 4-7\, 10-14\, 17-20 with various times \nThe Grange Theatre | Pomfret VT \n–Get Tickets and Event Info – \n  \nCreated and Written by Melinda Gilb\, Steve Gunderson and Bryan Scott. Directed by SUDS original creator Melinda Gilb. \nSUDS is a rock’n’roll fairy tale\, filled to the brim with great music and characters. After Cindy\, a laundromat attendant\, receives a letter from her pen-pal boyfriend ending their romance\, her stylish guardian angels arrive on the scene\, determined she’ll do more than “wishin’ and hopin’.” This evening of pure\, frothy fun will have you boppin’ to over fifty well-known songs that topped the 1960s charts: “Respect”\, “You Can’t Hurry Love”\, “Say A Little Prayer”\, and more! \nPresented by special arrangement with Brent Peek Productions: http://www.sudsthemusical.com \n  \n“The best songs of the ’60s!” – Variety \n“All in good fun and quite good fun.” – The New York Post \n“SUDS is polished to near-perfection…. Solid gold nostalgia.” – The Los Angeles Times
URL:https://pointfm.com/events/suds-the-rocking-60s-musical-soap-opera-the-grange-theatre/
END:VEVENT
END:VCALENDAR