BEGIN:VCALENDAR
VERSION:2.0
PRODID:-//The Point - ECPv5.16.3.1//NONSGML v1.0//EN
CALSCALE:GREGORIAN
METHOD:PUBLISH
X-WR-CALNAME:The Point
X-ORIGINAL-URL:https://pointfm.com
X-WR-CALDESC:Events for The Point
BEGIN:VTIMEZONE
TZID:America/New_York
BEGIN:DAYLIGHT
TZOFFSETFROM:-0500
TZOFFSETTO:-0400
TZNAME:EDT
DTSTART:20190310T070000
END:DAYLIGHT
BEGIN:STANDARD
TZOFFSETFROM:-0400
TZOFFSETTO:-0500
TZNAME:EST
DTSTART:20191103T060000
END:STANDARD
END:VTIMEZONE
BEGIN:VEVENT
DTSTART;TZID=America/New_York:20190126T190000
DTEND;TZID=America/New_York:20190126T220000
DTSTAMP:20260419T144522
CREATED:20190103T200234Z
LAST-MODIFIED:20190103T200234Z
UID:98552-1548529200-1548540000@pointfm.com
SUMMARY:Swan Lake @ Spruce Peak Performing Arts Center
DESCRIPTION:Swan Lake by The National Ballet Theatre of Odessa \nSaturday\, January 26th @ 7:00 pm \nSpruce Peak Performing rts Center | Stowe\, VT \n-Get Tickets and Event Info Here- \nThis full-scale production\, set to the music of Pyotr Tchaikovsky and based on Russian folklore and German legend\, follows a heroic young prince as he works to free the beautiful swan maiden from an evil spell. \nThe first visit to The United States of America of the Legendary National Ballet Theatre of Odessa with 55 talented and brightest ballet Stars to bring this romantic tale of true love to glorious life! \nMusic by Pyotr Tchaikovsky \nChoreography after Marius Petipa and Lev Ivanov \n(Ballet in four acts with one intermission)
URL:https://pointfm.com/events/swan-lake-spruce-peak-performing-arts-center/
END:VEVENT
END:VCALENDAR