BEGIN:VCALENDAR
VERSION:2.0
PRODID:-//The Point - ECPv5.16.3.1//NONSGML v1.0//EN
CALSCALE:GREGORIAN
METHOD:PUBLISH
X-WR-CALNAME:The Point
X-ORIGINAL-URL:https://pointfm.com
X-WR-CALDESC:Events for The Point
BEGIN:VTIMEZONE
TZID:America/New_York
BEGIN:DAYLIGHT
TZOFFSETFROM:-0500
TZOFFSETTO:-0400
TZNAME:EDT
DTSTART:20190310T070000
END:DAYLIGHT
BEGIN:STANDARD
TZOFFSETFROM:-0400
TZOFFSETTO:-0500
TZNAME:EST
DTSTART:20191103T060000
END:STANDARD
END:VTIMEZONE
BEGIN:VEVENT
DTSTART;TZID=America/New_York:20190703T140000
DTEND;TZID=America/New_York:20190713T230000
DTSTAMP:20260419T211918
CREATED:20190520T162228Z
LAST-MODIFIED:20190520T162228Z
UID:100605-1562162400-1563058800@pointfm.com
SUMMARY:The 39 Steps @ St. Michael's Playhouse
DESCRIPTION:The 39 Steps: Adapted by Patrick Barlow | From the novel by John Buchan | From the movie by Alfred Hitchcock \nEvenings: 8:00 p.m.  July 3 – 6\, 9 – 13\, 2019\nMatinees: 2:00 p.m.  July 6 & 13\, 2019 \nSt. Michael’s Playhouse | Colchester\, VT \n-Get Tickets and Event Info Here- \nMix an Alfred Hitchcock masterpiece with a juicy spy novel\, add a dash of Monty Python and you have Patrick Barlow’s hilarious The 39 Steps\, a fast-paced whodunit for anyone who loves the magic of theater. This Tony Award-winning treat of nonstop laughs is packed with over 150 zany characters played by a ridiculously talented cast of four. \n“The absurdly enjoyable\, gleefully theatrical riff on Alfred Hitchcock’s 1935 film.” – The New York Times
URL:https://pointfm.com/events/the-39-steps-st-michaels-playhouse/
END:VEVENT
END:VCALENDAR