BEGIN:VCALENDAR
VERSION:2.0
PRODID:-//The Point - ECPv5.16.3.1//NONSGML v1.0//EN
CALSCALE:GREGORIAN
METHOD:PUBLISH
X-WR-CALNAME:The Point
X-ORIGINAL-URL:https://pointfm.com
X-WR-CALDESC:Events for The Point
BEGIN:VTIMEZONE
TZID:America/New_York
BEGIN:DAYLIGHT
TZOFFSETFROM:-0500
TZOFFSETTO:-0400
TZNAME:EDT
DTSTART:20190310T070000
END:DAYLIGHT
BEGIN:STANDARD
TZOFFSETFROM:-0400
TZOFFSETTO:-0500
TZNAME:EST
DTSTART:20191103T060000
END:STANDARD
END:VTIMEZONE
BEGIN:VEVENT
DTSTART;TZID=America/New_York:20190618T190000
DTEND;TZID=America/New_York:20190618T230000
DTSTAMP:20260420T140437
CREATED:20190201T192208Z
LAST-MODIFIED:20190204T195045Z
UID:99161-1560884400-1560898800@pointfm.com
SUMMARY:The Avett Brothers @ Champlain Valley Expo
DESCRIPTION:The Avett Brothers \nTuesday\, June 18th @ 7:00 pm \nMidway Lawn at Champlain Valley Expo | Essex Junction\, VT \n-Get Tickets and Event Info Here- \nTHE AVETT BROTHERS​ made mainstream waves with their 2009 major label debut\, I andLove and You\, landing at #16 on the Billboard Top 200 and garnering critical acclaim fromRolling Stone\, Paste\, New York Times\, Los Angeles Times\, and Time. 2012 saw The Carpenterhit #4 on the Billboard Top 200\, while People\, USA Today\, and American Songwriter lauded thealbum. The group appeared on Jimmy Kimmel LIVE! twice in a few months’ time. During theirsecond performance\, the Brooklyn Philharmonic joined to pay homage to Brooklyn with “I andLove and You” at Mr. Kimmel’s request. Their eighth studio album\, Magpie and the Dandelion\,debuted at #5 on the Billboard Top 200. They performed on The Tonight Show with Jay Leno\,The Late Show with David Letterman\, and accompanied ​Chris Cornell​ for a ​Pearl Jam​ tribute onLate Night with Jimmy Fallon. The band supported ​The Rolling Stones​ in Raleigh during 2015’sZip Code Tour. \nTrue Sadness achieved THE AVETT BROTHERS highest career debut to date and dominatedmultiple charts. The Rick Rubin produced album hit #1 on Billboard’s Top Albums Chart\, #1 TopRock Albums Chart\, #1 Digital Albums Chart\, #3 on the Billboard Top 200 and scored twoGrammy nominations. THE AVETT BROTHERS were inducted into the North Carolina MusicHall of Fame in 2016. 2018 brought the HBO premiere of “May It Last: A Portrait of the AvettBrothers\,” a documentary co-directed by Judd Apatow and Michael Bonfiglio. Days after thisdebut\, True Sadness launched to #3 on the iTunes Album Chart and #1 on the Rock Albumschart. THE AVETT BROTHERS debuted a new song\, “Roses and Sacrifice\,” live on Late Nightwith Seth Meyers in October 2018. The song was released in November 2018\, with RollingStone calling it a “joyous sing-along.” Also in November 2018\, the band headlined the Concertfor Hurricane Florence Relief in Greenville\, North Carolina\, raising $325\,000 to help thoseaffected by Hurricane Florence. THE AVETT BROTHERS continue to be revered as one of thetop folk-rock acts in the country.
URL:https://pointfm.com/events/the-avett-brothers/
LOCATION:Champlain Valley Expo\, 105 Pearl Street\, Essex Junction\, Vermont\, 05452
END:VEVENT
END:VCALENDAR