BEGIN:VCALENDAR
VERSION:2.0
PRODID:-//The Point - ECPv5.16.3.1//NONSGML v1.0//EN
CALSCALE:GREGORIAN
METHOD:PUBLISH
X-WR-CALNAME:The Point
X-ORIGINAL-URL:https://pointfm.com
X-WR-CALDESC:Events for The Point
BEGIN:VTIMEZONE
TZID:America/New_York
BEGIN:DAYLIGHT
TZOFFSETFROM:-0500
TZOFFSETTO:-0400
TZNAME:EDT
DTSTART:20190310T070000
END:DAYLIGHT
BEGIN:STANDARD
TZOFFSETFROM:-0400
TZOFFSETTO:-0500
TZNAME:EST
DTSTART:20191103T060000
END:STANDARD
END:VTIMEZONE
BEGIN:VEVENT
DTSTART;TZID=America/New_York:20190704T170000
DTEND;TZID=America/New_York:20190704T223000
DTSTAMP:20260419T183630
CREATED:20190611T190048Z
LAST-MODIFIED:20190611T193927Z
UID:100748-1562259600-1562279400@pointfm.com
SUMMARY:The Flames w/ Hayley Jane & The Primates @ Colburn Park ((Free Show!))
DESCRIPTION:2019 Front Porch Concert Series: \nFREE SHOW \nFeaturing: \nThe Flames with Hayley Jane & The Primates\n \nThursday\, July 4th \nThe Flames @ 5:00 pm \nHayley Jane & The Primates @ 7:30 pm \nColburn Park | Lebanon\, NH   ( across from 51 North Park Street) \n  \nHayley Jane & The Primes– \nHayley Jane & The Primates combine Americana\, soul and rock & roll with rich lyrical imagery that electrifies the heart. At the helm is rising star\, Hayley Jane. She leads the band through an infectious live experience filled with powerful vocal range\, vibrant dance choreography and dramatic performance that captivates her devoted fanbase. \nHailing from Boston MA\, the band was the winner of the 2014 New England Music Awards’ Roots/Americana Act Of The Year and has been performing at premier venues and festivals across the country. Hayley Jane has also established herself as a strong female presence in the national music scene and was recently featured in the RELIX “Women Who Rock” Issue.
URL:https://pointfm.com/events/the-flames-w-hayley-jane-the-primates-colburn-park-free-show/
END:VEVENT
END:VCALENDAR