BEGIN:VCALENDAR
VERSION:2.0
PRODID:-//The Point - ECPv5.16.3.1//NONSGML v1.0//EN
CALSCALE:GREGORIAN
METHOD:PUBLISH
X-WR-CALNAME:The Point
X-ORIGINAL-URL:https://pointfm.com
X-WR-CALDESC:Events for The Point
BEGIN:VTIMEZONE
TZID:America/New_York
BEGIN:DAYLIGHT
TZOFFSETFROM:-0500
TZOFFSETTO:-0400
TZNAME:EDT
DTSTART:20240310T070000
END:DAYLIGHT
BEGIN:STANDARD
TZOFFSETFROM:-0400
TZOFFSETTO:-0500
TZNAME:EST
DTSTART:20241103T060000
END:STANDARD
END:VTIMEZONE
BEGIN:VEVENT
DTSTART;TZID=America/New_York:20240725T193000
DTEND;TZID=America/New_York:20240725T193000
DTSTAMP:20260419T194348
CREATED:20240326T163620Z
LAST-MODIFIED:20240326T163620Z
UID:106682-1721935800-1721935800@pointfm.com
SUMMARY:The Head and the Heart at Waterfront Park
DESCRIPTION:BUY TICKETS HERE\nTHE HEAD AND THE HEART W/ PHOSPHORESCENT\nDoors: 6:30 pm\n$55 + $1 charity advance | $59 + $1 charity day of show \n2023 has been a whirlwind of a year for The Head And The Heart. The acclaimed Seattle band sold out the iconic Red Rocks Amphitheatre for the seventh time\, co-headlined a tour with The Revivalists and then a second tour with Father John Misty\, and held their own boutique two-day music festival in Napa\, CA\, Down in The Valley. \nIn 2022\, the band released their fifth studio album Every Shade of Blue\, headlined sold-out shows all over North America on their Every Shade of Blue 2022 North American Tour\, and performed multiple times on national television\, everywhere from The Tonight Show with Jimmy Fallon to performing at the championship banner drop for The Seattle Sounders. \nEvery Shade of Blue was produced by GRAMMY-award winning songwriter\, producer and engineer Jesse Shatkin (Sia\, Pink\, The Shins\, Tegan and Sara) except for album tracks “Shadows”\, “Don’t Show Your Weakness” and “Love We Make” which were produced by Andrew Sarlo (Big Thief\, Wet)\, and “Paradigm”\, produced by John Hill and Sammy Witte (Florence + The Machine\, Portugal The Man\, Cage The Elephant)\, and mastered by Emily Lazar and Chris Allgood at The Lodge\, NY. \nFIND MORE HIGHER GROUND SHOWS
URL:https://pointfm.com/events/the-head-and-the-heart-at-waterfront-park/
LOCATION:Burlington’s Waterfront Park\, 10 College Street\, Burlington\, VT\, 05401\, United States
END:VEVENT
END:VCALENDAR