BEGIN:VCALENDAR
VERSION:2.0
PRODID:-//The Point - ECPv5.16.3.1//NONSGML v1.0//EN
CALSCALE:GREGORIAN
METHOD:PUBLISH
X-WR-CALNAME:The Point
X-ORIGINAL-URL:https://pointfm.com
X-WR-CALDESC:Events for The Point
BEGIN:VTIMEZONE
TZID:America/New_York
BEGIN:DAYLIGHT
TZOFFSETFROM:-0500
TZOFFSETTO:-0400
TZNAME:EDT
DTSTART:20190310T070000
END:DAYLIGHT
BEGIN:STANDARD
TZOFFSETFROM:-0400
TZOFFSETTO:-0500
TZNAME:EST
DTSTART:20191103T060000
END:STANDARD
END:VTIMEZONE
BEGIN:VEVENT
DTSTART;TZID=America/New_York:20190202T190000
DTEND;TZID=America/New_York:20190202T220000
DTSTAMP:20260419T212417
CREATED:20181128T204537Z
LAST-MODIFIED:20181128T204537Z
UID:98458-1549134000-1549144800@pointfm.com
SUMMARY:The Logger and the Fiddler @ Fuller Hall
DESCRIPTION:The Logger and the Fiddler \nSaturday\, February 2nd @ 7:00 pm \nFuller Hall | St. Johnsbury Academy \n-Get Tickets and Event Info Here- \nCome for the comedy and laughs and enjoy some music\, too\, with two of Vermont’s favorite sons— Rusty DeWees THE LOGGER and Lyndon Institute’s own Patrick Ross\, THE FIDDLER. Don’t miss the COMEDY and MUSIC No Added Sugar Tour to christen the 2019 GROUNDHOG NIGHT. \nActor/Comedian DeWees is known for his beloved THE LOGGER persona—a full-on comedian and burgeoning musician. Rusty’s one-man comedy shows are best described as Blue Collar Comedy meets Prairie Home Companion. \n“Always loved playing Caledonia\,” says Rusty. “I’ve played there dozens of times\, but\, not in St. J. since I had red hair. The area audiences are like family\, at this point … no joke. “ \nThe (Canaan) Vermont-born Patrick Ross is a fifth generation fiddle player who has performed at the Grand Ole Opry and shared stages with Willie Nelson\, Johnny Cash and Paul McCartney. Rusty says\, “Patrick Ross and I’ve been showing together for 4 years and I’m inspired by his musicianship. He’s helped me improve on my guitar and vocals. Look out\, cause he’s a great all-around performer\, which you’ll see through his comedy chops at this year’s show. Watching Patrick is worth the price of admission alone.” \nRusty’s been working on fresh new comedy bits for the main course of this LOGGER and FIDDLER tour is at St. J. Academy. But there are plenty of seconds and a big heaping of dessert in the show\, served through Rusty and Patrick’s unique musical duo act\, featuring fiddle\, mandolin\, guitar\, cello\, banjo and drums (played by two guys). Rusty has also written some “Dean (Martin) and Jerry (Lewis) / Tom and Dick” (Smothers) type comedy bits you’ll lose air laughing at.
URL:https://pointfm.com/events/the-logger-and-the-fiddler-fuller-hall/
END:VEVENT
END:VCALENDAR