BEGIN:VCALENDAR
VERSION:2.0
PRODID:-//The Point - ECPv5.16.3.1//NONSGML v1.0//EN
CALSCALE:GREGORIAN
METHOD:PUBLISH
X-WR-CALNAME:The Point
X-ORIGINAL-URL:https://pointfm.com
X-WR-CALDESC:Events for The Point
BEGIN:VTIMEZONE
TZID:America/New_York
BEGIN:DAYLIGHT
TZOFFSETFROM:-0500
TZOFFSETTO:-0400
TZNAME:EDT
DTSTART:20190310T070000
END:DAYLIGHT
BEGIN:STANDARD
TZOFFSETFROM:-0400
TZOFFSETTO:-0500
TZNAME:EST
DTSTART:20191103T060000
END:STANDARD
END:VTIMEZONE
BEGIN:VEVENT
DTSTART;TZID=America/New_York:20190627T190000
DTEND;TZID=America/New_York:20190627T220000
DTSTAMP:20260420T045926
CREATED:20190611T184459Z
LAST-MODIFIED:20190611T184932Z
UID:100743-1561662000-1561672800@pointfm.com
SUMMARY:The Revenants @ Colburn Park ((Free Show!))
DESCRIPTION:2019 Front Porch Concert Series: \nFREE SHOW \nFeaturing: \nThe Revenants \nThursday\, June 27th @ 7:00 pm \nColburn Park | Lebanon\, NH   ( across from 51 North Park Street) \n  \n\n\n\n\n\n\nBluegrass Gospel Project alums Taylor Armerding\, Andy Greene\, and Kirk Lord have come together to present original\, time-honored\, and contemporary Americana music to venues throughout \nNew England.\nShowcasing compelling\, intricately braided vocals\, richly textured instrumental work\, and solid\, innovative rhythm\, the three band members bring decades of performing experience to the stage. Through their many years of musical collaboration\, they speak soulfully with one voice. \nIt’s a new day\, and The Revenants have arrived. We’d love to share our musical stories with you. \n 
URL:https://pointfm.com/events/the-revenants-colburn-park-free-show/
END:VEVENT
END:VCALENDAR