BEGIN:VCALENDAR
VERSION:2.0
PRODID:-//The Point - ECPv5.16.3.1//NONSGML v1.0//EN
CALSCALE:GREGORIAN
METHOD:PUBLISH
X-WR-CALNAME:The Point
X-ORIGINAL-URL:https://pointfm.com
X-WR-CALDESC:Events for The Point
BEGIN:VTIMEZONE
TZID:America/New_York
BEGIN:DAYLIGHT
TZOFFSETFROM:-0500
TZOFFSETTO:-0400
TZNAME:EDT
DTSTART:20190310T070000
END:DAYLIGHT
BEGIN:STANDARD
TZOFFSETFROM:-0400
TZOFFSETTO:-0500
TZNAME:EST
DTSTART:20191103T060000
END:STANDARD
END:VTIMEZONE
BEGIN:VEVENT
DTSTART;TZID=America/New_York:20190323T193000
DTEND;TZID=America/New_York:20190323T230000
DTSTAMP:20260423T103243
CREATED:20181128T213117Z
LAST-MODIFIED:20181128T213117Z
UID:98474-1553369400-1553382000@pointfm.com
SUMMARY:The Secret Sisters @ Barre Opera House
DESCRIPTION:The Secret Sisters: Celebration Series \nSaturday\, March 23rd @ 7:30 pm \nBarre Opera House |  Barre\, VT \n-Get Tickets and Event Info Here- \nThe Secret Sisters are vocalists Laura Rogers and Lydia Slagle\, who developed their enchanting harmonies singing country and church music in their hometown of Muscle Shoals\, Alabama. They were nominated for a Best Folk Grammy this past year. The sisters’ soaring harmonies sound like a letter found in a closet\, nostalgic and classic – yet utterly modern as applied to songs that capture life in our own time. – No Depression
URL:https://pointfm.com/events/the-secret-sisters-barre-opera-house/
END:VEVENT
END:VCALENDAR