BEGIN:VCALENDAR
VERSION:2.0
PRODID:-//The Point - ECPv5.16.3.1//NONSGML v1.0//EN
CALSCALE:GREGORIAN
METHOD:PUBLISH
X-WR-CALNAME:The Point
X-ORIGINAL-URL:https://pointfm.com
X-WR-CALDESC:Events for The Point
BEGIN:VTIMEZONE
TZID:America/New_York
BEGIN:DAYLIGHT
TZOFFSETFROM:-0500
TZOFFSETTO:-0400
TZNAME:EDT
DTSTART:20180311T070000
END:DAYLIGHT
BEGIN:STANDARD
TZOFFSETFROM:-0400
TZOFFSETTO:-0500
TZNAME:EST
DTSTART:20181104T060000
END:STANDARD
END:VTIMEZONE
BEGIN:VEVENT
DTSTART;TZID=America/New_York:20181109T200000
DTEND;TZID=America/New_York:20181109T233000
DTSTAMP:20260420T113947
CREATED:20181019T203232Z
LAST-MODIFIED:20181109T201242Z
UID:98277-1541793600-1541806200@pointfm.com
SUMMARY:The T'N'T Tour @ Barre Opera House
DESCRIPTION:The T’N’T Tour: Tinsley Ellis and Tommy Castro & The Painkillers – Celebration Series \nFriday\, November 9th @ 8:00 pm \nBarre Opera House | Barre\, VT \n-Get Tickets and Event Info Here- \nAn explosive blues double bill featuring Tommy Castro & The Painkillers and Tinsley Ellis \nOver the course of his career\, guitarist\, vocalist and songwriter Tommy Castro – a six-time Blues Music Award-winner – has played thousands of shows to hundreds of thousands of ecstatic fans. Castro\, along with his band\, The Painkillers — bassist Randy McDonald\, keyboardist Michael Emerson and drummer Bowen Brown — plays music that is guaranteed to fill the floor and raise the roof. With seemingly telepathic musicianship\, the Painkillers bring an unmatched passion to Castro’s blue-eyed California soul and hard-rocking\, good-time songs. Delivering the songs from his brand new Alligator release\, Stompin’ Ground\, Castro both looks back with autobiographical originals and cover songs that inspired him\, melding contemporary lyrics with blistering blues-rock. No Depression says\, “Castro plays gritty\, string bending blues like a runaway soul train…a glorious blend that rocks the soul and lifts the spirits.” \nSouthern blues-rocker Tinsley Ellis may speak no evil\, but he sings and plays with the conviction of\, as Billboard wrote\, “…a man possessed.” Over the course of eleven albums and literally thousands of live performances\, Ellis easily ranks as one of today’s most electrifying blues-rock guitarists and vocalists. He approaches his music with rock power and blues feeling\, in the same tradition as his Deep South musical heroes Duane Allman and Freddie King and his old friends Derek Trucks and Warren Haynes. Atlanta Magazine declared Ellis “the most significant blues artist to emerge from Atlanta since Blind Willie McTell.”  Since first hitting the national scene with his debut Georgia Blue in 1988\, Ellis has toured non-stop and continued to release one critically acclaimed album after another. Tinsley Ellis wears his Southern roots proudly. Born in Atlanta in 1957\, he grew up in southern Florida and first played guitar at age eight. He found the blues through the back door of British Invasion bands like The Yardbirds\, The Animals\, Cream\, and The Rolling Stones. He especially loved the Kings — Freddie\, B.B. and Albert — and spent hours immersing himself in their music.
URL:https://pointfm.com/events/the-tnt-tour-barre-opera-house/
END:VEVENT
END:VCALENDAR