BEGIN:VCALENDAR
VERSION:2.0
PRODID:-//The Point - ECPv5.16.3.1//NONSGML v1.0//EN
CALSCALE:GREGORIAN
METHOD:PUBLISH
X-WR-CALNAME:The Point
X-ORIGINAL-URL:https://pointfm.com
X-WR-CALDESC:Events for The Point
BEGIN:VTIMEZONE
TZID:America/New_York
BEGIN:DAYLIGHT
TZOFFSETFROM:-0500
TZOFFSETTO:-0400
TZNAME:EDT
DTSTART:20190310T070000
END:DAYLIGHT
BEGIN:STANDARD
TZOFFSETFROM:-0400
TZOFFSETTO:-0500
TZNAME:EST
DTSTART:20191103T060000
END:STANDARD
END:VTIMEZONE
BEGIN:VEVENT
DTSTART;TZID=America/New_York:20190518T110000
DTEND;TZID=America/New_York:20190519T180000
DTSTAMP:20260423T123255
CREATED:20190429T194118Z
LAST-MODIFIED:20190429T194234Z
UID:100501-1558177200-1558288800@pointfm.com
SUMMARY:Vermont Cannabis and Hemp Convention @ Champlain Valley Expo
DESCRIPTION:\ \n2nd Annual Vermont Cannabis & Hemp Convention \nSaturday\, May 18th & Sunday\, May 19th \n11am-6pm (Both Days) \nChamplain Valley Expo | Essex Junction\, VT \n-Get Tickets and Event Info Here- \n\n\nNew England’s largest cannabis convention arrives again in Vermont for the 2nd Annual Vermont Cannabis and Hemp Convention\, May 18-19\, 2019 at the Champlain Valley Exposition in Essex Junction\, Vermont for two full days of exhibitions\, educational seminars\, and speakers related to medical marijuana\, industrial hemp\, CBD wellness products\, and the ever-growing New England cannabis industry. Produced by New England Cannabis Conventions and Heady Vermont\, join us for the state’s only convention centered around this rapidly growing industry! \nIn Vermont\, interest in cannabis continues to grow\, as evidenced by the explosive growth of the CBD sector\, and its supporting ancillary businesses. The Vermont Cannabis and Hemp Convention is the next step in elevating and connecting the cannabis industry and culture within Vermont\, and with regional partners representing all six New England states. Check out the event landing page for full details on programming\, activities\, lodging and more! \n\n\n 
URL:https://pointfm.com/events/vermont-cannabis-and-hemp-convention-champlain-valley-expo/
END:VEVENT
END:VCALENDAR