BEGIN:VCALENDAR
VERSION:2.0
PRODID:-//The Point - ECPv5.16.3.1//NONSGML v1.0//EN
CALSCALE:GREGORIAN
METHOD:PUBLISH
X-WR-CALNAME:The Point
X-ORIGINAL-URL:https://pointfm.com
X-WR-CALDESC:Events for The Point
BEGIN:VTIMEZONE
TZID:America/New_York
BEGIN:DAYLIGHT
TZOFFSETFROM:-0500
TZOFFSETTO:-0400
TZNAME:EDT
DTSTART:20210314T070000
END:DAYLIGHT
BEGIN:STANDARD
TZOFFSETFROM:-0400
TZOFFSETTO:-0500
TZNAME:EST
DTSTART:20211107T060000
END:STANDARD
END:VTIMEZONE
BEGIN:VEVENT
DTSTART;TZID=America/New_York:20210227T193000
DTEND;TZID=America/New_York:20210227T193000
DTSTAMP:20260424T004211
CREATED:20210211T144649Z
LAST-MODIFIED:20210211T145134Z
UID:103594-1614454200-1614454200@pointfm.com
SUMMARY:Vermont Symphony Orchestra Jukebox Quartet (live stream)
DESCRIPTION:The popular chamber music series streams live from ArtsRiot in Burlington\nSinger Kat Wright and Guster’s Ryan Miller join the Jukebox String Quartet to dive headfirst into music that classically rocks\, set against a backdrop of spray-paint art from Anthill Collective. Tune in for never-before-heard songs with Ryan Miller and Kat Wright; music from Bob Dylan\, Tool\, and Radiohead; and compositions by Jessie Montgomery and Henry Purcell. \nThis concert brings the thrill of live music directly to your living room with the versatile and passionate musicians of the VSO\, including a virtual after-party. \nLEARN MORE AND PURCHASE TICKETS \n*Single tickets and season ticket packages are available for purchase\, starting at $5\, on a pay-what-you-can sliding scale.
URL:https://pointfm.com/events/vermont-symphony-orchestra-jukebox-quartet-live-stream/
LOCATION:ArtsRiot\, 400 Pine Street\, Burlington\, VT\, 05401
END:VEVENT
END:VCALENDAR