BEGIN:VCALENDAR
VERSION:2.0
PRODID:-//The Point - ECPv5.16.3.1//NONSGML v1.0//EN
CALSCALE:GREGORIAN
METHOD:PUBLISH
X-WR-CALNAME:The Point
X-ORIGINAL-URL:https://pointfm.com
X-WR-CALDESC:Events for The Point
BEGIN:VTIMEZONE
TZID:America/New_York
BEGIN:DAYLIGHT
TZOFFSETFROM:-0500
TZOFFSETTO:-0400
TZNAME:EDT
DTSTART:20190310T070000
END:DAYLIGHT
BEGIN:STANDARD
TZOFFSETFROM:-0400
TZOFFSETTO:-0500
TZNAME:EST
DTSTART:20191103T060000
END:STANDARD
END:VTIMEZONE
BEGIN:VEVENT
DTSTART;TZID=America/New_York:20190628T200000
DTEND;TZID=America/New_York:20190630T230000
DTSTAMP:20260420T011824
CREATED:20190219T201108Z
LAST-MODIFIED:20190219T201108Z
UID:100210-1561752000-1561935600@pointfm.com
SUMMARY:Wilco's Solid Sound Festival @ MASS MoCa
DESCRIPTION:Wilco’s Solid Sound Festival\nFriday\, June 28th – Sunday June 30th\nMassachusetts Museum of Contemporary Arts | North Adams\, MA \n-Get Tickets and Event Info Here- \nSpanning three days and four stages\, Solid Sound includes music by Wilco and its members’ side projects\, as well as many other musical performers. It also features a fully comedy lineup\, family fun for all ages\, local food\, craft beer\, camping\, naturalist activities\, and more.
URL:https://pointfm.com/events/wilcos-solid-sound-festival-mass-moca/
END:VEVENT
END:VCALENDAR