BEGIN:VCALENDAR
VERSION:2.0
PRODID:-//The Point - ECPv5.16.3.1//NONSGML v1.0//EN
CALSCALE:GREGORIAN
METHOD:PUBLISH
X-WR-CALNAME:The Point
X-ORIGINAL-URL:https://pointfm.com
X-WR-CALDESC:Events for The Point
BEGIN:VTIMEZONE
TZID:America/New_York
BEGIN:DAYLIGHT
TZOFFSETFROM:-0500
TZOFFSETTO:-0400
TZNAME:EDT
DTSTART:20180311T070000
END:DAYLIGHT
BEGIN:STANDARD
TZOFFSETFROM:-0400
TZOFFSETTO:-0500
TZNAME:EST
DTSTART:20181104T060000
END:STANDARD
END:VTIMEZONE
BEGIN:VEVENT
DTSTART;TZID=America/New_York:20181108T200000
DTEND;TZID=America/New_York:20181108T233000
DTSTAMP:20260420T130022
CREATED:20181019T202419Z
LAST-MODIFIED:20181109T201222Z
UID:98275-1541707200-1541719800@pointfm.com
SUMMARY:Yonder Mountain String Band @ Higher Ground
DESCRIPTION:The Point Welcomes: \nYonder Mountain String Band \nA Tour de Point Show \nThursday\, November 8th @ 8:00 pm \nHigher Ground | S Burlington\, Vermont \n-Get Tickets and Event Info Here- \nYonder Mountain String Band’s first new album in two years\, LOVE. AIN’T LOVE is undeniably the Colorado-based progressive bluegrass outfit’s most surprising\, creative\, and yes\, energetic studio excursion to date. Songs like “Chasing My Tail” and “Alison” are rooted in tradition but as current as tomorrow\, animated by electrifying performance\, vivid production\, and the modernist power that has made Yonder one of the most popular live bands of their generation. Melding sophisticated songcraft\, irrepressible spirit\, and remarkable instrumental ability\, LOVE. AIN’T LOVE is a testament to Yonder Mountain String Band’s organic\, dynamic\, and intensely personal brand of contemporary bluegrass-fueled Americana.
URL:https://pointfm.com/events/yonder-mountain-string-band-higher-ground/
END:VEVENT
END:VCALENDAR