BEGIN:VCALENDAR
VERSION:2.0
PRODID:-//The Point - ECPv5.16.3.1//NONSGML v1.0//EN
CALSCALE:GREGORIAN
METHOD:PUBLISH
X-WR-CALNAME:The Point
X-ORIGINAL-URL:https://pointfm.com
X-WR-CALDESC:Events for The Point
BEGIN:VTIMEZONE
TZID:America/New_York
BEGIN:DAYLIGHT
TZOFFSETFROM:-0500
TZOFFSETTO:-0400
TZNAME:EDT
DTSTART:20190310T070000
END:DAYLIGHT
BEGIN:STANDARD
TZOFFSETFROM:-0400
TZOFFSETTO:-0500
TZNAME:EST
DTSTART:20191103T060000
END:STANDARD
END:VTIMEZONE
BEGIN:VEVENT
DTSTART;TZID=America/New_York:20190129T200000
DTEND;TZID=America/New_York:20190129T230000
DTSTAMP:20260419T183452
CREATED:20181102T163131Z
LAST-MODIFIED:20181128T204602Z
UID:98342-1548792000-1548802800@pointfm.com
SUMMARY:Young the Giant @ Flynn Center
DESCRIPTION:  \nYoung the Giant \nTuesday\, January 29th @ 8:00 pm \nFlynn Center | Burlington\, VT \n-Get Tickets and Event Info Here- \nLos Angeles quintet Young the Giant expertly juxtapose their adventurous spirit with fearless grace on their new album Mirror Master\, that features singles “Simplify” and “Superposition.” As the band’s fourth album\, Mirror Master follows 2016’s critically acclaimed album Home of the Strange. \nMirror Master comes at a time when we are engulfed in points of conflict and scrutiny\, yet with this album Young the Giant have found some space to breathe. \nLead singer Sameer Gadhia explains “What we forget to realize is that the image that reflects is just an illusion. Like the world\, we are made up of fictions of things people tell us. How we should dress\, what we should believe in\, what type of stock to invest in\, how we should vote. What is our free will\, if we trudge across tracks already traveled? \nIf there is nothing else we control; nothing else new\, we are at least in control of ourselves; can make our paths novel and undefined; shatter categories\, stereotypes\, and roles. Do what we want to do\, think freely and not how others tell us to—live beneath the surface of things.” \nYoung the Giant first broke through with their 2010 self-titled debut album\, which featured the RIAA-gold certified hits\, “My Body” and “Cough Syrup.” This was followed by the release of 2014’s Mind Over Matter\, which was both a commercial and critical success and prompted The New York Times to call [Lead singer Sameer Gadhia] “one of the great contemporary rock voices.” Young the Giant continued to brave new themes and sonic landscapes with their wildly adventurous third album\, Home of the Strange\, anchored by the perspective of the modern American immigrant as most members of the quintet are immigrants or first-generation Americans. Gadhia had an in-depth conversation with NPR’s Ailsa Chang on the topic (see here). The album features hits “Amerika\,” “Something to Believe In\,” and “Silvertongue.” \nYoung the Giant is composed of Sameer Gadhia (vocals)\, Jacob Tilley (guitar)\, Eric Cannata (guitar/vocals)\, Payam Doostzadeh (bass)\, and Francois Comtois (drums/vocals). They’ve sold out performances at historic venues such as Radio City Music Hall (New York)\, The Greek Theatre (Los Angeles)\, The Aragon Ballroom (Chicago)\, Red Rocks Amphitheater (Morrison)\, and more. They have become a festival mainstay at high profile outings such as Bonnaroo\, Austin City Limits\, Lollapalooza\, Outside Lands\, and Governor’s Ball among others. Over the course of their career\, Young The Giant has charted 5 singles on the Billboard Alternative Top 10.
URL:https://pointfm.com/events/young-the-giant-flynn-theatre/
END:VEVENT
END:VCALENDAR